BEGIN:VCALENDAR
VERSION:2.0
PRODID:-//Harwell Village - ECPv6.15.20//NONSGML v1.0//EN
CALSCALE:GREGORIAN
METHOD:PUBLISH
X-ORIGINAL-URL:https://harwellvillage.uk
X-WR-CALDESC:Events for Harwell Village
REFRESH-INTERVAL;VALUE=DURATION:PT1H
X-Robots-Tag:noindex
X-PUBLISHED-TTL:PT1H
BEGIN:VTIMEZONE
TZID:Europe/London
BEGIN:DAYLIGHT
TZOFFSETFROM:+0000
TZOFFSETTO:+0100
TZNAME:BST
DTSTART:20190331T010000
END:DAYLIGHT
BEGIN:STANDARD
TZOFFSETFROM:+0100
TZOFFSETTO:+0000
TZNAME:GMT
DTSTART:20191027T010000
END:STANDARD
BEGIN:DAYLIGHT
TZOFFSETFROM:+0000
TZOFFSETTO:+0100
TZNAME:BST
DTSTART:20200329T010000
END:DAYLIGHT
BEGIN:STANDARD
TZOFFSETFROM:+0100
TZOFFSETTO:+0000
TZNAME:GMT
DTSTART:20201025T010000
END:STANDARD
BEGIN:DAYLIGHT
TZOFFSETFROM:+0000
TZOFFSETTO:+0100
TZNAME:BST
DTSTART:20210328T010000
END:DAYLIGHT
BEGIN:STANDARD
TZOFFSETFROM:+0100
TZOFFSETTO:+0000
TZNAME:GMT
DTSTART:20211031T010000
END:STANDARD
END:VTIMEZONE
BEGIN:VEVENT
DTSTART;TZID=Europe/London:20200215T140000
DTEND;TZID=Europe/London:20200215T170000
DTSTAMP:20260422T093705
CREATED:20200122T130535Z
LAST-MODIFIED:20200122T131358Z
UID:2692-1581775200-1581786000@harwellvillage.uk
SUMMARY:Repair Cafe - The Big Fix
DESCRIPTION:As a collective\, the National Big Fix 2020 is likely to: \nUtilise more than 900 volunteers\nOver 2\,800 hours of volunteer time\nAttempt to fix over 2000 items \nLatest count\, 68 repair cafes are signed up with more joining all the time \nBasing these figures on the data generated from the Devon Big Fix in 2019 this will result in £70\,000 worth of consumer spending not required by avoiding the replacement of broken items. \nSave 60 tonnes of carbon – this figure excludes clothing and other ancillary activities such as tool repair\, knife sharpening\, bikes and jewellery repairs. \n  \nIf you are a Facebook user\, this links to a good video which shows what the repair café is all about.. \nhttps://www.facebook.com/MalvernHillsRepairCafe/videos/895130800650253/
URL:https://harwellvillage.uk/event/repair-cafe-the-big-fix/
LOCATION:St Matthews\, Harwell\, Oxon\, United Kingdom
CATEGORIES:Repair Cafe
ATTACH;FMTTYPE=image/png:https://harwellvillage.uk/wp-content/uploads/2020/01/Repair-cafe-big-fix-Feb-20.png
ORGANIZER;CN="Harwell and Chilton Churches":MAILTO:vj.hcchurches@gmail.com
END:VEVENT
END:VCALENDAR